BEGIN:VCALENDAR
VERSION:2.0
PRODID:-//https://kaimaipistolclub.org.nz///NONSGML kigkonsult.se iCalcreator 2.10.15//
METHOD:PUBLISH
BEGIN:VEVENT
UID:20260424T144606UTC-4052u5Uhdf@https://kaimaipistolclub.org.nz/
DTSTAMP:20260424T144606Z
DESCRIPTION: https://kaimaipistolclub.org.nz/component/rseventspro/event/10
 9-ipsc-club-day
DTSTART;VALUE=DATE:20310514
LOCATION:Kaimai Pistol Club (426 Hot Springs Road\, Katikati 3178\, New Zea
 land)
SUMMARY:IPSC: Club Day
URL:https://kaimaipistolclub.org.nz/component/rseventspro/event/109-ipsc-cl
 ub-day
END:VEVENT
END:VCALENDAR
