BEGIN:VCALENDAR
VERSION:2.0
PRODID:-//https://kaimaipistolclub.org.nz///NONSGML kigkonsult.se iCalcreator 2.10.15//
METHOD:PUBLISH
BEGIN:VEVENT
UID:20210119T072342UTC-4020F6aebf@https://kaimaipistolclub.org.nz/
DTSTAMP:20210119T072342Z
DESCRIPTION:ISSF-Service Pistol https://kaimaipistolclub.org.nz/component/r
 seventspro/event/244-service-pistol
DTSTART:20201121T200000Z
DTEND:20210615T000000Z
LOCATION:Kaimai Pistol Club (426 Hot Springs Road\, Katikati 3178\, New Zea
 land)
SUMMARY:Service Pistol
URL:https://kaimaipistolclub.org.nz/component/rseventspro/event/244-service
 -pistol
END:VEVENT
END:VCALENDAR
