BEGIN:VCALENDAR
VERSION:2.0
PRODID:-//https://kaimaipistolclub.org.nz///NONSGML kigkonsult.se iCalcreator 2.10.15//
METHOD:PUBLISH
BEGIN:VEVENT
UID:20260424T124537UTC-3618Kiwakb@https://kaimaipistolclub.org.nz/
DTSTAMP:20260424T124537Z
DESCRIPTION:Weekly IPSC Shoot\nShooting starts 10:00am\nUsually runs until 
 1:00pm https://kaimaipistolclub.org.nz/component/rseventspro/event/443-ips
 c
DTSTART:20200508T220000Z
DTEND:20200509T000000Z
LOCATION:Kaimai Pistol Club (426 Hot Springs Road\, Katikati 3178\, New Zea
 land)
SUMMARY:IPSC
URL:https://kaimaipistolclub.org.nz/component/rseventspro/event/443-ipsc
END:VEVENT
END:VCALENDAR
