BEGIN:VCALENDAR
VERSION:2.0
PRODID:-//https://kaimaipistolclub.org.nz///NONSGML kigkonsult.se iCalcreator 2.10.15//
METHOD:PUBLISH
BEGIN:VEVENT
UID:20260424T132611UTC-8430m25ZWv@https://kaimaipistolclub.org.nz/
DTSTAMP:20260424T132611Z
DESCRIPTION:Regular Pistol Carbine Shoot\nSame stages as IPSC pistol but pi
 stol shooters will be graded as Standard and Pistol Carbines as Open and t
 wo sets of reports the same as the IPSC shooters get now will be distribut
 ed. https://kaimaipistolclub.org.nz/component/rseventspro/event/4878-pisto
 l-carbine
DTSTART:20221118T210000Z
DTEND:20221119T000000Z
LOCATION:Kaimai Pistol Club (426 Hot Springs Road\, Katikati 3178\, New Zea
 land)
SUMMARY:Pistol Carbine
URL:https://kaimaipistolclub.org.nz/component/rseventspro/event/4878-pistol
 -carbine
END:VEVENT
END:VCALENDAR
