BEGIN:VCALENDAR
VERSION:2.0
PRODID:-//https://kaimaipistolclub.org.nz///NONSGML kigkonsult.se iCalcreator 2.10.15//
METHOD:PUBLISH
BEGIN:VEVENT
UID:20260424T120008UTC-7537aPApoX@https://kaimaipistolclub.org.nz/
DTSTAMP:20260424T120008Z
DESCRIPTION:Weekly IPSC Shoot\nShooting starts 10:00am\nUsually runs until 
 1:00pm https://kaimaipistolclub.org.nz/component/rseventspro/event/490-ips
 c
DTSTART:20210402T210000Z
DTEND:20210402T230000Z
LOCATION:Kaimai Pistol Club (426 Hot Springs Road\, Katikati 3178\, New Zea
 land)
SUMMARY:IPSC
URL:https://kaimaipistolclub.org.nz/component/rseventspro/event/490-ipsc
END:VEVENT
END:VCALENDAR
