BEGIN:VCALENDAR
VERSION:2.0
PRODID:-//https://kaimaipistolclub.org.nz///NONSGML kigkonsult.se iCalcreator 2.10.15//
METHOD:PUBLISH
BEGIN:VEVENT
UID:20260424T113636UTC-1585xoHOdA@https://kaimaipistolclub.org.nz/
DTSTAMP:20260424T113636Z
DESCRIPTION: https://kaimaipistolclub.org.nz/component/rseventspro/event/49
 09-cas
DTSTART:20170512T210000Z
DTEND:20170513T010000Z
LOCATION:Kaimai Pistol Club (426 Hot Springs Road\, Katikati 3178\, New Zea
 land)
SUMMARY:CAS
URL:https://kaimaipistolclub.org.nz/component/rseventspro/event/4909-cas
END:VEVENT
END:VCALENDAR
