BEGIN:VCALENDAR
VERSION:2.0
PRODID:-//https://kaimaipistolclub.org.nz///NONSGML kigkonsult.se iCalcreator 2.10.15//
METHOD:PUBLISH
BEGIN:VEVENT
UID:20260424T120120UTC-86984sZ9s6@https://kaimaipistolclub.org.nz/
DTSTAMP:20260424T120120Z
DESCRIPTION: https://kaimaipistolclub.org.nz/component/rseventspro/event/49
 56-cas
DTSTART:20210409T210000Z
DTEND:20210410T010000Z
LOCATION:Kaimai Pistol Club (426 Hot Springs Road\, Katikati 3178\, New Zea
 land)
SUMMARY:CAS
URL:https://kaimaipistolclub.org.nz/component/rseventspro/event/4956-cas
END:VEVENT
END:VCALENDAR
