BEGIN:VCALENDAR
VERSION:2.0
PRODID:-//https://kaimaipistolclub.org.nz///NONSGML kigkonsult.se iCalcreator 2.10.15//
METHOD:PUBLISH
BEGIN:VEVENT
UID:20260424T131705UTC-0798bHZ7iN@https://kaimaipistolclub.org.nz/
DTSTAMP:20260424T131705Z
DESCRIPTION: https://kaimaipistolclub.org.nz/component/rseventspro/event/49
 57-cas
DTSTART:20210507T210000Z
DTEND:20210508T010000Z
LOCATION:Kaimai Pistol Club (426 Hot Springs Road\, Katikati 3178\, New Zea
 land)
SUMMARY:CAS
URL:https://kaimaipistolclub.org.nz/component/rseventspro/event/4957-cas
END:VEVENT
END:VCALENDAR
