BEGIN:VCALENDAR
VERSION:2.0
PRODID:-//https://kaimaipistolclub.org.nz///NONSGML kigkonsult.se iCalcreator 2.10.15//
METHOD:PUBLISH
BEGIN:VEVENT
UID:20260424T131704UTC-3543L0NX8x@https://kaimaipistolclub.org.nz/
DTSTAMP:20260424T131704Z
DESCRIPTION: https://kaimaipistolclub.org.nz/component/rseventspro/event/49
 62-cas
DTSTART:20211008T200000Z
DTEND:20211009T000000Z
LOCATION:Kaimai Pistol Club (426 Hot Springs Road\, Katikati 3178\, New Zea
 land)
SUMMARY:CAS
URL:https://kaimaipistolclub.org.nz/component/rseventspro/event/4962-cas
END:VEVENT
END:VCALENDAR
