BEGIN:VCALENDAR
VERSION:2.0
PRODID:-//https://kaimaipistolclub.org.nz///NONSGML kigkonsult.se iCalcreator 2.10.15//
METHOD:PUBLISH
BEGIN:VEVENT
UID:20260424T131631UTC-2382SrXuvU@https://kaimaipistolclub.org.nz/
DTSTAMP:20260424T131631Z
DESCRIPTION: https://kaimaipistolclub.org.nz/component/rseventspro/event/49
 68-cas
DTSTART:20220408T210000Z
DTEND:20220409T010000Z
LOCATION:Kaimai Pistol Club (426 Hot Springs Road\, Katikati 3178\, New Zea
 land)
SUMMARY:CAS
URL:https://kaimaipistolclub.org.nz/component/rseventspro/event/4968-cas
END:VEVENT
END:VCALENDAR
