BEGIN:VCALENDAR
VERSION:2.0
PRODID:-//https://kaimaipistolclub.org.nz///NONSGML kigkonsult.se iCalcreator 2.10.15//
METHOD:PUBLISH
BEGIN:VEVENT
UID:20260424T131703UTC-6264DZKwtD@https://kaimaipistolclub.org.nz/
DTSTAMP:20260424T131703Z
DESCRIPTION: https://kaimaipistolclub.org.nz/component/rseventspro/event/49
 78-cas
DTSTART:20230210T200000Z
DTEND:20230211T000000Z
LOCATION:Kaimai Pistol Club (426 Hot Springs Road\, Katikati 3178\, New Zea
 land)
SUMMARY:CAS
URL:https://kaimaipistolclub.org.nz/component/rseventspro/event/4978-cas
END:VEVENT
END:VCALENDAR
