BEGIN:VCALENDAR
VERSION:2.0
PRODID:-//https://kaimaipistolclub.org.nz///NONSGML kigkonsult.se iCalcreator 2.10.15//
METHOD:PUBLISH
BEGIN:VEVENT
UID:20260424T131703UTC-2931kK8oBL@https://kaimaipistolclub.org.nz/
DTSTAMP:20260424T131703Z
DESCRIPTION: https://kaimaipistolclub.org.nz/component/rseventspro/event/49
 91-cas
DTSTART:20240308T200000Z
DTEND:20240309T000000Z
LOCATION:Kaimai Pistol Club (426 Hot Springs Road\, Katikati 3178\, New Zea
 land)
SUMMARY:CAS
URL:https://kaimaipistolclub.org.nz/component/rseventspro/event/4991-cas
END:VEVENT
END:VCALENDAR
