BEGIN:VCALENDAR
VERSION:2.0
PRODID:-//https://kaimaipistolclub.org.nz///NONSGML kigkonsult.se iCalcreator 2.10.15//
METHOD:PUBLISH
BEGIN:VEVENT
UID:20260424T131657UTC-0554bZX1wt@https://kaimaipistolclub.org.nz/
DTSTAMP:20260424T131657Z
DESCRIPTION: https://kaimaipistolclub.org.nz/component/rseventspro/event/49
 94-cas
DTSTART:20240607T210000Z
DTEND:20240608T010000Z
LOCATION:Kaimai Pistol Club (426 Hot Springs Road\, Katikati 3178\, New Zea
 land)
SUMMARY:CAS
URL:https://kaimaipistolclub.org.nz/component/rseventspro/event/4994-cas
END:VEVENT
END:VCALENDAR
