BEGIN:VCALENDAR
VERSION:2.0
PRODID:-//https://kaimaipistolclub.org.nz///NONSGML kigkonsult.se iCalcreator 2.10.15//
METHOD:PUBLISH
BEGIN:VEVENT
UID:20260424T132352UTC-9647h0a6MX@https://kaimaipistolclub.org.nz/
DTSTAMP:20260424T132352Z
DESCRIPTION: https://kaimaipistolclub.org.nz/component/rseventspro/event/50
 01-cas
DTSTART:20250110T200000Z
DTEND:20250111T000000Z
LOCATION:Kaimai Pistol Club (426 Hot Springs Road\, Katikati 3178\, New Zea
 land)
SUMMARY:CAS
URL:https://kaimaipistolclub.org.nz/component/rseventspro/event/5001-cas
END:VEVENT
END:VCALENDAR
