BEGIN:VCALENDAR
VERSION:2.0
PRODID:-//https://kaimaipistolclub.org.nz///NONSGML kigkonsult.se iCalcreator 2.10.15//
METHOD:PUBLISH
BEGIN:VEVENT
UID:20260424T132005UTC-9548dCDDPW@https://kaimaipistolclub.org.nz/
DTSTAMP:20260424T132005Z
DESCRIPTION: https://kaimaipistolclub.org.nz/component/rseventspro/event/51
 57-issf-standard-pistol
DTSTART:20211211T200000Z
DTEND:20211212T000000Z
LOCATION:Kaimai Pistol Club (426 Hot Springs Road\, Katikati 3178\, New Zea
 land)
SUMMARY:ISSF - Standard Pistol
URL:https://kaimaipistolclub.org.nz/component/rseventspro/event/5157-issf-s
 tandard-pistol
END:VEVENT
END:VCALENDAR
