BEGIN:VCALENDAR
VERSION:2.0
PRODID:-//https://kaimaipistolclub.org.nz///NONSGML kigkonsult.se iCalcreator 2.10.15//
METHOD:PUBLISH
BEGIN:VEVENT
UID:20260424T132047UTC-7240oBE4oH@https://kaimaipistolclub.org.nz/
DTSTAMP:20260424T132047Z
DESCRIPTION: https://kaimaipistolclub.org.nz/component/rseventspro/event/51
 77-issf-standard-pistol
DTSTART:20230812T210000Z
DTEND:20230813T010000Z
LOCATION:Kaimai Pistol Club (426 Hot Springs Road\, Katikati 3178\, New Zea
 land)
SUMMARY:ISSF - Standard Pistol
URL:https://kaimaipistolclub.org.nz/component/rseventspro/event/5177-issf-s
 tandard-pistol
END:VEVENT
END:VCALENDAR
