BEGIN:VCALENDAR
VERSION:2.0
PRODID:-//https://kaimaipistolclub.org.nz///NONSGML kigkonsult.se iCalcreator 2.10.15//
METHOD:PUBLISH
BEGIN:VEVENT
UID:20260424T131856UTC-5008IJzb25@https://kaimaipistolclub.org.nz/
DTSTAMP:20260424T131856Z
DESCRIPTION: https://kaimaipistolclub.org.nz/component/rseventspro/event/51
 82-issf-standard-pistol
DTSTART:20240113T200000Z
DTEND:20240114T000000Z
LOCATION:Kaimai Pistol Club (426 Hot Springs Road\, Katikati 3178\, New Zea
 land)
SUMMARY:ISSF - Standard Pistol
URL:https://kaimaipistolclub.org.nz/component/rseventspro/event/5182-issf-s
 tandard-pistol
END:VEVENT
END:VCALENDAR
