BEGIN:VCALENDAR
VERSION:2.0
PRODID:-//https://kaimaipistolclub.org.nz///NONSGML kigkonsult.se iCalcreator 2.10.15//
METHOD:PUBLISH
BEGIN:VEVENT
UID:20260424T131856UTC-9277hR5G35@https://kaimaipistolclub.org.nz/
DTSTAMP:20260424T131856Z
DESCRIPTION: https://kaimaipistolclub.org.nz/component/rseventspro/event/51
 83-issf-standard-pistol
DTSTART:20240210T200000Z
DTEND:20240211T000000Z
LOCATION:Kaimai Pistol Club (426 Hot Springs Road\, Katikati 3178\, New Zea
 land)
SUMMARY:ISSF - Standard Pistol
URL:https://kaimaipistolclub.org.nz/component/rseventspro/event/5183-issf-s
 tandard-pistol
END:VEVENT
END:VCALENDAR
