BEGIN:VCALENDAR
VERSION:2.0
PRODID:-//https://kaimaipistolclub.org.nz///NONSGML kigkonsult.se iCalcreator 2.10.15//
METHOD:PUBLISH
BEGIN:VEVENT
UID:20260424T132006UTC-09377VU3jO@https://kaimaipistolclub.org.nz/
DTSTAMP:20260424T132006Z
DESCRIPTION: https://kaimaipistolclub.org.nz/component/rseventspro/event/51
 86-issf-standard-pistol
DTSTART:20240511T210000Z
DTEND:20240512T010000Z
LOCATION:Kaimai Pistol Club (426 Hot Springs Road\, Katikati 3178\, New Zea
 land)
SUMMARY:ISSF - Standard Pistol
URL:https://kaimaipistolclub.org.nz/component/rseventspro/event/5186-issf-s
 tandard-pistol
END:VEVENT
END:VCALENDAR
