BEGIN:VCALENDAR
VERSION:2.0
PRODID:-//https://kaimaipistolclub.org.nz///NONSGML kigkonsult.se iCalcreator 2.10.15//
METHOD:PUBLISH
BEGIN:VEVENT
UID:20260424T163845UTC-8778v96r2J@https://kaimaipistolclub.org.nz/
DTSTAMP:20260424T163845Z
DESCRIPTION:ISSF-Service Pistol https://kaimaipistolclub.org.nz/component/r
 seventspro/event/5206-service-pistol
DTSTART:20241221T200000Z
DTEND:20251220T230000Z
LOCATION:Kaimai Pistol Club (426 Hot Springs Road\, Katikati 3178\, New Zea
 land)
SUMMARY:Service Pistol
URL:https://kaimaipistolclub.org.nz/component/rseventspro/event/5206-servic
 e-pistol
END:VEVENT
END:VCALENDAR
