BEGIN:VCALENDAR
VERSION:2.0
PRODID:-//https://kaimaipistolclub.org.nz///NONSGML kigkonsult.se iCalcreator 2.10.15//
METHOD:PUBLISH
BEGIN:VEVENT
UID:20260424T163819UTC-4553dGPPvf@https://kaimaipistolclub.org.nz/
DTSTAMP:20260424T163819Z
DESCRIPTION: https://kaimaipistolclub.org.nz/component/rseventspro/event/56
 -ipsc-river-city-open
DTSTART;VALUE=DATE:20260114
LOCATION:Kaimai Pistol Club (426 Hot Springs Road\, Katikati 3178\, New Zea
 land)
SUMMARY:IPSC: River City Open
URL:https://kaimaipistolclub.org.nz/component/rseventspro/event/56-ipsc-riv
 er-city-open
END:VEVENT
END:VCALENDAR
